BEGIN:VCALENDAR
VERSION:2.0
PRODID:-//Plone.org//NONSGML plone.app.event//EN
X-WR-TIMEZONE:Europe/Rome
BEGIN:VEVENT
SUMMARY:XV Giorno della Memoria - 2015
DTSTART;TZID=Europe/Rome;VALUE=DATE-TIME:20150127T090000
DTEND;TZID=Europe/Rome;VALUE=DATE-TIME:20150213T130000
DTSTAMP;VALUE=DATE-TIME:20260426T020656Z
UID:91c2df84e88e4131a85a5bba2301774c@sde.unibo.it
CREATED;VALUE=DATE-TIME:20150123T110939Z
DESCRIPTION:Su iniziativa dell’Ambasciata di Israele\, le sedi universit
 arie aderenti alla Rete Università e Giorno della Memoria promuovono inco
 ntri con testimoni e personalità del mondo della cultura di Israele\, per
  facilitare\, proprio in occasione del Giorno della Memoria\, il dialogo a
 l livello degli Stati e delle loro Istituzioni culturali e cittadine\, e l
 ’incontro tra i popoli di diversa cittadinanza\, nelle varie generazioni
 .
LAST-MODIFIED;VALUE=DATE-TIME:20150123T113332Z
URL:https://sde.unibo.it/it/eventi/xv-giorno-della-memoria-2015
END:VEVENT
BEGIN:VTIMEZONE
TZID:Europe/Rome
X-LIC-LOCATION:Europe/Rome
BEGIN:STANDARD
DTSTART;VALUE=DATE-TIME:20141026T020000
TZNAME:CET
TZOFFSETFROM:+0200
TZOFFSETTO:+0100
END:STANDARD
END:VTIMEZONE
END:VCALENDAR
