BEGIN:VCALENDAR
VERSION:2.0
PRODID:-//Plone.org//NONSGML plone.app.event//EN
X-WR-TIMEZONE:Europe/Rome
BEGIN:VEVENT
SUMMARY:Wronged: The Weaponization of Victimhood
DTSTART;TZID=Europe/Rome;VALUE=DATE-TIME:20240923T130000
DTEND;TZID=Europe/Rome;VALUE=DATE-TIME:20240923T155000
DTSTAMP;VALUE=DATE-TIME:20260422T010444Z
UID:d7f8575d3c80497483776f91cca2c628@sde.unibo.it
CREATED;VALUE=DATE-TIME:20240918T145303Z
DESCRIPTION:Lilie Chouliaraki (The London School of Economics and Politica
 l Science)\n\nin dialogo con\nPierluigi Musarò (Università di Bologna) e
  Giorgia Aiello (Università di Milano)
LAST-MODIFIED;VALUE=DATE-TIME:20240918T145400Z
URL:https://sde.unibo.it/it/eventi/wronged-the-weaponization-of-victimhood
END:VEVENT
BEGIN:VTIMEZONE
TZID:Europe/Rome
X-LIC-LOCATION:Europe/Rome
BEGIN:DAYLIGHT
DTSTART;VALUE=DATE-TIME:20240331T030000
TZNAME:CEST
TZOFFSETFROM:+0100
TZOFFSETTO:+0200
END:DAYLIGHT
END:VTIMEZONE
END:VCALENDAR
