BEGIN:VCALENDAR
VERSION:2.0
PRODID:-//Plone.org//NONSGML plone.app.event//EN
X-WR-TIMEZONE:Europe/Rome
BEGIN:VEVENT
SUMMARY:Workshop Working Group 1 “Constitution-making and deliberative d
 emocracy: Theories and practices”
DTSTART;TZID=Europe/Rome;VALUE=DATE-TIME:20190520T150000
DTEND;TZID=Europe/Rome;VALUE=DATE-TIME:20190520T170000
DTSTAMP;VALUE=DATE-TIME:20260423T215623Z
UID:16e6f16c567443c197de1e0f26d6dea7@sde.unibo.it
CREATED;VALUE=DATE-TIME:20190515T075509Z
DESCRIPTION:Keynote lecture “Rerunning the UK’s Brexit Decision: How C
 ould the Process Have Been Better?”\, Alan Renwick\, Constitution Unit\,
  UCL.\n\nKeynote lecture nel contesto del workshop COST “Constitution-ma
 king and deliberative democracy: Theories and practices”\n
LAST-MODIFIED;VALUE=DATE-TIME:20190517T110009Z
URL:https://sde.unibo.it/it/eventi/workshop-working-group-1-201cconstituti
 on-making-and-deliberative-democracy-theories-and-practices201d
END:VEVENT
BEGIN:VTIMEZONE
TZID:Europe/Rome
X-LIC-LOCATION:Europe/Rome
BEGIN:DAYLIGHT
DTSTART;VALUE=DATE-TIME:20190331T030000
TZNAME:CEST
TZOFFSETFROM:+0100
TZOFFSETTO:+0200
END:DAYLIGHT
END:VTIMEZONE
END:VCALENDAR
