BEGIN:VCALENDAR
VERSION:2.0
PRODID:-//Plone.org//NONSGML plone.app.event//EN
X-WR-TIMEZONE:Europe/Rome
BEGIN:VEVENT
SUMMARY:Workshop Working Group 1 “Constitution-making and deliberative d
 emocracy: Theories and practices”
DTSTART;TZID=Europe/Rome;VALUE=DATE-TIME:20190521T093000
DTEND;TZID=Europe/Rome;VALUE=DATE-TIME:20190521T180000
DTSTAMP;VALUE=DATE-TIME:20260424T005726Z
UID:12d7dde7cd484f2eacf323d070a046ea@sde.unibo.it
CREATED;VALUE=DATE-TIME:20190515T081712Z
DESCRIPTION:Workshop del Working Group 1 (COST Action Constitution-making 
 and Deliberative Democracy)\n\nWorkshop deliberativo (per membri del netwo
 rk COST) del Working Group I “Constitution-making and deliberative democ
 racy: Theories and practices”\n\n
LAST-MODIFIED;VALUE=DATE-TIME:20190517T110223Z
URL:https://sde.unibo.it/it/eventi/workshop-working-group-1-201cconstituti
 on-making-and-deliberative-democracy-theories-and-practices201d-1
END:VEVENT
BEGIN:VTIMEZONE
TZID:Europe/Rome
X-LIC-LOCATION:Europe/Rome
BEGIN:DAYLIGHT
DTSTART;VALUE=DATE-TIME:20190331T030000
TZNAME:CEST
TZOFFSETFROM:+0100
TZOFFSETTO:+0200
END:DAYLIGHT
END:VTIMEZONE
END:VCALENDAR
