BEGIN:VCALENDAR
VERSION:2.0
PRODID:-//Plone.org//NONSGML plone.app.event//EN
X-WR-TIMEZONE:Europe/Rome
BEGIN:VEVENT
SUMMARY:Workshop Il Costo dell’Innovazione
DTSTART;VALUE=DATE:20190703
DTEND;VALUE=DATE:20190704
DTSTAMP;VALUE=DATE-TIME:20260424T024943Z
UID:c287d650d7d0473096944ca7b48b300d@sde.unibo.it
CREATED;VALUE=DATE-TIME:20190613T085124Z
DESCRIPTION:Incontro con Fabio Mattioli*\, Melbourne University
LAST-MODIFIED;VALUE=DATE-TIME:20190613T085344Z
URL:https://sde.unibo.it/it/eventi/workshop-il-costo-dell2019innovazione
END:VEVENT
END:VCALENDAR
