BEGIN:VCALENDAR
VERSION:2.0
PRODID:-//Plone.org//NONSGML plone.app.event//EN
X-WR-TIMEZONE:Europe/Rome
BEGIN:VEVENT
SUMMARY:Who is an employee? Comparative perspective
DTSTART;TZID=Europe/Rome;VALUE=DATE-TIME:20190320T100000
DTEND;TZID=Europe/Rome;VALUE=DATE-TIME:20190320T120000
DTSTAMP;VALUE=DATE-TIME:20260424T084631Z
UID:c0f5ad52fe944a77ab792ef36aae1d62@sde.unibo.it
CREATED;VALUE=DATE-TIME:20190311T095112Z
DESCRIPTION:Ilalian labour law e-journal presentation seminar
LAST-MODIFIED;VALUE=DATE-TIME:20190311T095357Z
URL:https://sde.unibo.it/it/eventi/who-is-an-employee-comparative-perspect
 ive-2
END:VEVENT
BEGIN:VTIMEZONE
TZID:Europe/Rome
X-LIC-LOCATION:Europe/Rome
BEGIN:STANDARD
DTSTART;VALUE=DATE-TIME:20181028T020000
TZNAME:CET
TZOFFSETFROM:+0200
TZOFFSETTO:+0100
END:STANDARD
END:VTIMEZONE
END:VCALENDAR
