BEGIN:VCALENDAR
VERSION:2.0
PRODID:-//Plone.org//NONSGML plone.app.event//EN
X-WR-TIMEZONE:Europe/Rome
BEGIN:VEVENT
SUMMARY:What would you do with all this data? 
DTSTART;TZID=Europe/Rome;VALUE=DATE-TIME:20171212T100000
DTEND;TZID=Europe/Rome;VALUE=DATE-TIME:20171212T180000
DTSTAMP;VALUE=DATE-TIME:20260423T080846Z
UID:d0f993e411aa4dbf9dde1f7d0e5a6a19@sde.unibo.it
CREATED;VALUE=DATE-TIME:20171126T090940Z
LAST-MODIFIED;VALUE=DATE-TIME:20171126T122948Z
URL:https://sde.unibo.it/it/eventi/what-would-you-do-with-all-this-data
END:VEVENT
BEGIN:VTIMEZONE
TZID:Europe/Rome
X-LIC-LOCATION:Europe/Rome
BEGIN:STANDARD
DTSTART;VALUE=DATE-TIME:20171029T020000
TZNAME:CET
TZOFFSETFROM:+0200
TZOFFSETTO:+0100
END:STANDARD
END:VTIMEZONE
END:VCALENDAR
