BEGIN:VCALENDAR
VERSION:2.0
PRODID:-//Plone.org//NONSGML plone.app.event//EN
X-WR-TIMEZONE:Europe/Rome
BEGIN:VEVENT
SUMMARY:What are the conceptual differences: Sustainability\, Sustainable 
 Development\, Corporate Sustainability and CSR?
DTSTART;TZID=Europe/Rome;VALUE=DATE-TIME:20220302T090000
DTEND;TZID=Europe/Rome;VALUE=DATE-TIME:20220302T103000
DTSTAMP;VALUE=DATE-TIME:20260426T050138Z
UID:ee44d9ba16ff48cda417fc31fafb36b5@sde.unibo.it
CREATED;VALUE=DATE-TIME:20220221T094839Z
DESCRIPTION:Lezione tenuta dal Professor Benedict Sheehy\, University of C
 anberra. Per iscriversi è possibile mandare una mail a federica.farneti@u
 nibo.it almeno 7 giorni prima dell'evento.
LAST-MODIFIED;VALUE=DATE-TIME:20220221T095056Z
URL:https://sde.unibo.it/it/eventi/what-are-the-conceptual-differences-sus
 tainability-sustainable-development-corporate-sustainability-and-csr
END:VEVENT
BEGIN:VTIMEZONE
TZID:Europe/Rome
X-LIC-LOCATION:Europe/Rome
BEGIN:STANDARD
DTSTART;VALUE=DATE-TIME:20211031T020000
TZNAME:CET
TZOFFSETFROM:+0200
TZOFFSETTO:+0100
END:STANDARD
END:VTIMEZONE
END:VCALENDAR
