BEGIN:VCALENDAR
VERSION:2.0
PRODID:-//Plone.org//NONSGML plone.app.event//EN
X-WR-TIMEZONE:Europe/Rome
BEGIN:VEVENT
SUMMARY:Welcome to digital inclusion
DTSTART;TZID=Europe/Rome;VALUE=DATE-TIME:20171107T093000
DTEND;TZID=Europe/Rome;VALUE=DATE-TIME:20171107T163000
DTSTAMP;VALUE=DATE-TIME:20260422T220136Z
UID:abec5758f8fc498ca984353d6466d66c@sde.unibo.it
CREATED;VALUE=DATE-TIME:20171102T091403Z
DESCRIPTION:Bologna\, 7 novembre 2017\, Mura di Porta Galliera 1/2A.\nOpen
  Group.
LAST-MODIFIED;VALUE=DATE-TIME:20171102T091514Z
URL:https://sde.unibo.it/it/eventi/welcome-to-digital-inclusion
END:VEVENT
BEGIN:VTIMEZONE
TZID:Europe/Rome
X-LIC-LOCATION:Europe/Rome
BEGIN:STANDARD
DTSTART;VALUE=DATE-TIME:20171029T020000
TZNAME:CET
TZOFFSETFROM:+0200
TZOFFSETTO:+0100
END:STANDARD
END:VTIMEZONE
END:VCALENDAR
