BEGIN:VCALENDAR
VERSION:2.0
PRODID:-//Plone.org//NONSGML plone.app.event//EN
X-WR-TIMEZONE:Europe/Rome
BEGIN:VEVENT
SUMMARY:Voci dal Pilastro. Narrazioni\, comunità e identità
DTSTART;VALUE=DATE:20181108
DTEND;VALUE=DATE:20181109
DTSTAMP;VALUE=DATE-TIME:20260423T154206Z
UID:ba582391072c4524a163335a7a047a60@sde.unibo.it
CREATED;VALUE=DATE-TIME:20181106T084931Z
DESCRIPTION:A cura degli studenti del Laboratorio di ricerca applicata sul
  territorio
LAST-MODIFIED;VALUE=DATE-TIME:20181106T085228Z
URL:https://sde.unibo.it/it/eventi/voci-dal-pilastro.-narrazioni-comunita-
 e-identita
END:VEVENT
END:VCALENDAR
