BEGIN:VCALENDAR
VERSION:2.0
PRODID:-//Plone.org//NONSGML plone.app.event//EN
X-WR-TIMEZONE:Europe/Rome
BEGIN:VEVENT
SUMMARY:Understanding home care. Perspectives of beneficiaries and profess
 ionals in the sector
DTSTART;TZID=Europe/Rome;VALUE=DATE-TIME:20250407T150000
DTEND;TZID=Europe/Rome;VALUE=DATE-TIME:20250407T170000
DTSTAMP;VALUE=DATE-TIME:20260419T161638Z
UID:5e7aba0275bc40cfb1bd4a92549d5a21@sde.unibo.it
CREATED;VALUE=DATE-TIME:20250402T095006Z
DESCRIPTION:Relatrice: Nathalie Burnay (University of Namur and UCLouvain)
 \nSaluti: Vando Borghi (Università di Bologna\, coordinatore CIDOSPEL)\nC
 oordina: Marco Alberio (Università di Bologna)
LAST-MODIFIED;VALUE=DATE-TIME:20250402T095355Z
URL:https://sde.unibo.it/it/eventi/understanding-home-care-perspectives-of
 -beneficiaries-and-professionals-in-the-sector
END:VEVENT
BEGIN:VTIMEZONE
TZID:Europe/Rome
X-LIC-LOCATION:Europe/Rome
BEGIN:DAYLIGHT
DTSTART;VALUE=DATE-TIME:20250330T030000
TZNAME:CEST
TZOFFSETFROM:+0100
TZOFFSETTO:+0200
END:DAYLIGHT
END:VTIMEZONE
END:VCALENDAR
