BEGIN:VCALENDAR
VERSION:2.0
PRODID:-//Plone.org//NONSGML plone.app.event//EN
X-WR-TIMEZONE:Europe/Rome
BEGIN:VEVENT
SUMMARY:Una ricerca lunga un anno
DTSTART;VALUE=DATE:20180222
DTEND;VALUE=DATE:20180223
DTSTAMP;VALUE=DATE-TIME:20260424T033449Z
UID:f5bd5eeae7244841be361700d3895d74@sde.unibo.it
CREATED;VALUE=DATE-TIME:20180215T122043Z
DESCRIPTION:Partecipazione e immaginazione nell’esperienza dei Laborator
 i di Quartiere\ndel Comune di Bologna
LAST-MODIFIED;VALUE=DATE-TIME:20180215T122054Z
URL:https://sde.unibo.it/it/eventi/una-ricerca-lunga-un-anno
END:VEVENT
END:VCALENDAR
