BEGIN:VCALENDAR
VERSION:2.0
PRODID:-//Plone.org//NONSGML plone.app.event//EN
X-WR-TIMEZONE:Europe/Rome
BEGIN:VEVENT
SUMMARY:Tutela del risparmio ed educazione finanziaria
DTSTART;TZID=Europe/Rome;VALUE=DATE-TIME:20250321T090000
DTEND;TZID=Europe/Rome;VALUE=DATE-TIME:20250321T130000
DTSTAMP;VALUE=DATE-TIME:20260419T132524Z
UID:b753d9a2410f46518a022b716630656b@sde.unibo.it
CREATED;VALUE=DATE-TIME:20250306T144525Z
DESCRIPTION:Il convegno intende offrire alla cittadinanza e in particolare
  ai e alle più giovani\, un’occasione di orientamento nel sistema finan
 ziario contemporaneo.
LAST-MODIFIED;VALUE=DATE-TIME:20250306T144549Z
URL:https://sde.unibo.it/it/eventi/tutela-del-risparmio-ed-educazione-fina
 nziaria-1
END:VEVENT
BEGIN:VTIMEZONE
TZID:Europe/Rome
X-LIC-LOCATION:Europe/Rome
BEGIN:STANDARD
DTSTART;VALUE=DATE-TIME:20241027T020000
TZNAME:CET
TZOFFSETFROM:+0200
TZOFFSETTO:+0100
END:STANDARD
END:VTIMEZONE
END:VCALENDAR
