BEGIN:VCALENDAR
VERSION:2.0
PRODID:-//Plone.org//NONSGML plone.app.event//EN
X-WR-TIMEZONE:Europe/Rome
BEGIN:VEVENT
SUMMARY:Turismo di Comunità in Italia come volano di Sviluppo Locale
DTSTART;TZID=Europe/Rome;VALUE=DATE-TIME:20170525T170000
DTEND;TZID=Europe/Rome;VALUE=DATE-TIME:20170525T190000
DTSTAMP;VALUE=DATE-TIME:20260422T204627Z
UID:4fc72995f0134269ae5547b7e13620b2@sde.unibo.it
CREATED;VALUE=DATE-TIME:20170525T095330Z
DESCRIPTION:Organizzato da Cescocom Bologna e It.a.cà. migranti e viaggia
 tori - Festival del Turismo Responsabile.
LAST-MODIFIED;VALUE=DATE-TIME:20170525T095346Z
URL:https://sde.unibo.it/it/eventi/turismo-di-comunita-in-italia-come-vola
 no-di-sviluppo-locale
END:VEVENT
BEGIN:VTIMEZONE
TZID:Europe/Rome
X-LIC-LOCATION:Europe/Rome
BEGIN:DAYLIGHT
DTSTART;VALUE=DATE-TIME:20170326T030000
TZNAME:CEST
TZOFFSETFROM:+0100
TZOFFSETTO:+0200
END:DAYLIGHT
END:VTIMEZONE
END:VCALENDAR
