BEGIN:VCALENDAR
VERSION:2.0
PRODID:-//Plone.org//NONSGML plone.app.event//EN
X-WR-TIMEZONE:Europe/Rome
BEGIN:VEVENT
SUMMARY:Trauma in the Anthropocene: Reflecting on mental health at a time 
 of ecological crisis
DTSTART;TZID=Europe/Rome;VALUE=DATE-TIME:20250430T173000
DTEND;TZID=Europe/Rome;VALUE=DATE-TIME:20250430T190000
DTSTAMP;VALUE=DATE-TIME:20260419T212039Z
UID:8060ff97146f4dfa97dd1ba3bdd6b74e@sde.unibo.it
CREATED;VALUE=DATE-TIME:20250415T075926Z
DESCRIPTION:Speaker\nISA Visiting Fellow - Baptiste Brossard\nLecturer  Un
 iversity of York.
LAST-MODIFIED;VALUE=DATE-TIME:20250415T075949Z
URL:https://sde.unibo.it/it/eventi/trauma-in-the-anthropocene-reflecting-o
 n-mental-health-at-a-time-of-ecological-crisis
END:VEVENT
BEGIN:VTIMEZONE
TZID:Europe/Rome
X-LIC-LOCATION:Europe/Rome
BEGIN:DAYLIGHT
DTSTART;VALUE=DATE-TIME:20250330T030000
TZNAME:CEST
TZOFFSETFROM:+0100
TZOFFSETTO:+0200
END:DAYLIGHT
END:VTIMEZONE
END:VCALENDAR
