BEGIN:VCALENDAR
VERSION:2.0
PRODID:-//Plone.org//NONSGML plone.app.event//EN
X-WR-TIMEZONE:Europe/Rome
BEGIN:VEVENT
SUMMARY:Tra le mura di casa. La violenza di genere in famiglia
DTSTART;TZID=Europe/Rome;VALUE=DATE-TIME:20250402T103000
DTEND;TZID=Europe/Rome;VALUE=DATE-TIME:20250402T130000
DTSTAMP;VALUE=DATE-TIME:20260419T174859Z
UID:2f03331953054edc9acc59e49325421f@sde.unibo.it
CREATED;VALUE=DATE-TIME:20250224T180014Z
DESCRIPTION:Terzo appuntamento con le CRIDS Lectures - Chair: Dott.ssa L. 
 Pasqui (Università di Bologna) - Intervengono: Prof.ssa S.Sicurella (Univ
 ersità di Bologna) e Prof.ssa B.Pezzini (Università di Bergamo)
LAST-MODIFIED;VALUE=DATE-TIME:20250320T170736Z
URL:https://sde.unibo.it/it/eventi/tra-le-mura-di-casa-la-violenza-di-gene
 re-in-famiglia
END:VEVENT
BEGIN:VTIMEZONE
TZID:Europe/Rome
X-LIC-LOCATION:Europe/Rome
BEGIN:DAYLIGHT
DTSTART;VALUE=DATE-TIME:20250330T030000
TZNAME:CEST
TZOFFSETFROM:+0100
TZOFFSETTO:+0200
END:DAYLIGHT
END:VTIMEZONE
END:VCALENDAR
