BEGIN:VCALENDAR
VERSION:2.0
PRODID:-//Plone.org//NONSGML plone.app.event//EN
X-WR-TIMEZONE:Europe/Rome
BEGIN:VEVENT
SUMMARY:Tra i mercati e il mercato
DTSTART;TZID=Europe/Rome;VALUE=DATE-TIME:20180412T173000
DTEND;TZID=Europe/Rome;VALUE=DATE-TIME:20180412T193000
DTSTAMP;VALUE=DATE-TIME:20260423T171412Z
UID:a994dc2c9b1e4eb38e9ff8304eec5a3d@sde.unibo.it
CREATED;VALUE=DATE-TIME:20180406T122452Z
DESCRIPTION: Una ricerca di ambiente sulla zona del mercato delle erbe.\nA
  cura del Laboratorio di Sociologia Urbana (AA 2017/18)
LAST-MODIFIED;VALUE=DATE-TIME:20180406T122522Z
URL:https://sde.unibo.it/it/eventi/tra-i-mercati-e-il-mercato
END:VEVENT
BEGIN:VTIMEZONE
TZID:Europe/Rome
X-LIC-LOCATION:Europe/Rome
BEGIN:DAYLIGHT
DTSTART;VALUE=DATE-TIME:20180325T030000
TZNAME:CEST
TZOFFSETFROM:+0100
TZOFFSETTO:+0200
END:DAYLIGHT
END:VTIMEZONE
END:VCALENDAR
