BEGIN:VCALENDAR
VERSION:2.0
PRODID:-//Plone.org//NONSGML plone.app.event//EN
X-WR-TIMEZONE:Europe/Rome
BEGIN:VEVENT
SUMMARY:Tour guidati e AperiScienza\, aspettando la Notte Europea dei Rice
 rcatori 2024
DTSTART;TZID=Europe/Rome;VALUE=DATE-TIME:20240828T080000
DTEND;TZID=Europe/Rome;VALUE=DATE-TIME:20240927T202000
DTSTAMP;VALUE=DATE-TIME:20260422T062648Z
UID:6c3db33ad5264711a22986247b6479b4@sde.unibo.it
CREATED;VALUE=DATE-TIME:20240820T155304Z
DESCRIPTION:Dal 28 agosto al 27 settembre\, in attesa della notte dedica
 ta alla ricerca\, la città si anima con tante iniziative per diffondere l
 a scienza e la cultura. Scopri il programma.
LAST-MODIFIED;VALUE=DATE-TIME:20240820T155304Z
URL:https://sde.unibo.it/it/eventi/tour-guidati-e-aperiscienza-aspettando-
 la-notte-europea-dei-ricercatori-2024
END:VEVENT
BEGIN:VTIMEZONE
TZID:Europe/Rome
X-LIC-LOCATION:Europe/Rome
BEGIN:DAYLIGHT
DTSTART;VALUE=DATE-TIME:20240331T030000
TZNAME:CEST
TZOFFSETFROM:+0100
TZOFFSETTO:+0200
END:DAYLIGHT
END:VTIMEZONE
END:VCALENDAR
