BEGIN:VCALENDAR
VERSION:2.0
PRODID:-//Plone.org//NONSGML plone.app.event//EN
X-WR-TIMEZONE:Europe/Rome
BEGIN:VEVENT
SUMMARY:The Social Construction of Illness (In a Mediate World)
DTSTART;TZID=Europe/Rome;VALUE=DATE-TIME:20190325T150000
DTEND;TZID=Europe/Rome;VALUE=DATE-TIME:20190325T180000
DTSTAMP;VALUE=DATE-TIME:20260423T225553Z
UID:14fa506e24964c0fb7b3926a458c8fa9@sde.unibo.it
CREATED;VALUE=DATE-TIME:20190314T120135Z
DESCRIPTION:Conferenza\nKristin Barker\, Professor of Sociology\, Universi
 ty of New Mexico (visiting fellow ISA\, Dipartimento di Sociologia e Dirit
 to dell’Economia\, Università di Bologna)\n
LAST-MODIFIED;VALUE=DATE-TIME:20190314T120703Z
URL:https://sde.unibo.it/it/eventi/the-social-construction-of-illness-in-a
 -mediate-world
END:VEVENT
BEGIN:VTIMEZONE
TZID:Europe/Rome
X-LIC-LOCATION:Europe/Rome
BEGIN:STANDARD
DTSTART;VALUE=DATE-TIME:20181028T020000
TZNAME:CET
TZOFFSETFROM:+0200
TZOFFSETTO:+0100
END:STANDARD
END:VTIMEZONE
END:VCALENDAR
