BEGIN:VCALENDAR
VERSION:2.0
PRODID:-//Plone.org//NONSGML plone.app.event//EN
X-WR-TIMEZONE:Europe/Rome
BEGIN:VEVENT
SUMMARY:The influence of stakeholders on integrated reporting: a case stud
 y.
DTSTART;TZID=Europe/Rome;VALUE=DATE-TIME:20180607T100000
DTEND;TZID=Europe/Rome;VALUE=DATE-TIME:20180607T130000
DTSTAMP;VALUE=DATE-TIME:20260422T203019Z
UID:8318eb0a0b644f488715c77d70773858@sde.unibo.it
CREATED;VALUE=DATE-TIME:20180417T092812Z
DESCRIPTION:Seminario internazionale che sarà svolto dal Prof. Charl  de 
 Villiers\n
LAST-MODIFIED;VALUE=DATE-TIME:20180417T093043Z
URL:https://sde.unibo.it/it/eventi/the-influence-of-stakeholders-on-integr
 ated-reporting-a-case-study
END:VEVENT
BEGIN:VTIMEZONE
TZID:Europe/Rome
X-LIC-LOCATION:Europe/Rome
BEGIN:DAYLIGHT
DTSTART;VALUE=DATE-TIME:20180325T030000
TZNAME:CEST
TZOFFSETFROM:+0100
TZOFFSETTO:+0200
END:DAYLIGHT
END:VTIMEZONE
END:VCALENDAR
