BEGIN:VCALENDAR
VERSION:2.0
PRODID:-//Plone.org//NONSGML plone.app.event//EN
X-WR-TIMEZONE:Europe/Rome
BEGIN:VEVENT
SUMMARY:The general agreement on trade in sevices (GATS) modes of supply a
 nd its influence on the operations of multinational enterprises (MNEs)
DTSTART;TZID=Europe/Rome;VALUE=DATE-TIME:20180625T090000
DTEND;TZID=Europe/Rome;VALUE=DATE-TIME:20180628T110000
DTSTAMP;VALUE=DATE-TIME:20260422T221641Z
UID:a44e8a243eaf433f8e751a61b57219a7@sde.unibo.it
CREATED;VALUE=DATE-TIME:20180613T072842Z
DESCRIPTION:Prof. Hussain Rammal\, UTS (Sydney)\nIntroduction Prof. Claudi
 a Golino
LAST-MODIFIED;VALUE=DATE-TIME:20180613T073222Z
URL:https://sde.unibo.it/it/eventi/the-general-agreement-on-trade-in-sevic
 es-gats-modes-of-supply-and-its-influence-on-the-operations-of-multination
 al-enterprises-mnes-1
END:VEVENT
BEGIN:VTIMEZONE
TZID:Europe/Rome
X-LIC-LOCATION:Europe/Rome
BEGIN:DAYLIGHT
DTSTART;VALUE=DATE-TIME:20180325T030000
TZNAME:CEST
TZOFFSETFROM:+0100
TZOFFSETTO:+0200
END:DAYLIGHT
END:VTIMEZONE
END:VCALENDAR
