BEGIN:VCALENDAR
VERSION:2.0
PRODID:-//Plone.org//NONSGML plone.app.event//EN
X-WR-TIMEZONE:Europe/Rome
BEGIN:VEVENT
SUMMARY:The Future of Education Law in Europe: Trends and legal considerat
 ions
DTSTART;TZID=Europe/Rome;VALUE=DATE-TIME:20240618T110000
DTEND;TZID=Europe/Rome;VALUE=DATE-TIME:20240618T130000
DTSTAMP;VALUE=DATE-TIME:20260422T081915Z
UID:f33d0a4fd941486bbd36cdd5eb479690@sde.unibo.it
CREATED;VALUE=DATE-TIME:20240614T152006Z
DESCRIPTION:Seminario di Prof. Jan De Groof\, Professor at the Edu-HRight 
 Research Unit\, North West University
LAST-MODIFIED;VALUE=DATE-TIME:20240614T152044Z
URL:https://sde.unibo.it/it/eventi/the-future-of-education-law-in-europe-t
 rends-and-legal-considerations
END:VEVENT
BEGIN:VTIMEZONE
TZID:Europe/Rome
X-LIC-LOCATION:Europe/Rome
BEGIN:DAYLIGHT
DTSTART;VALUE=DATE-TIME:20240331T030000
TZNAME:CEST
TZOFFSETFROM:+0100
TZOFFSETTO:+0200
END:DAYLIGHT
END:VTIMEZONE
END:VCALENDAR
