BEGIN:VCALENDAR
VERSION:2.0
PRODID:-//Plone.org//NONSGML plone.app.event//EN
X-WR-TIMEZONE:Europe/Rome
BEGIN:VEVENT
SUMMARY:The Evolution of FinTech  and One Element of its Future  The Futur
 e of Money  - Prof. Ross P. Buckley
DTSTART;TZID=Europe/Rome;VALUE=DATE-TIME:20250514T100000
DTEND;TZID=Europe/Rome;VALUE=DATE-TIME:20250514T120000
DTSTAMP;VALUE=DATE-TIME:20260419T212119Z
UID:ad01ba898af848758bf0b416addc38ca@sde.unibo.it
CREATED;VALUE=DATE-TIME:20250512T114049Z
DESCRIPTION:Lectio Magistralis \nDiritto delle società quotate e dei merc
 ati finanziari\nProf.ssa F. Pellegrini\nSaluti e introduzione \nProf. M. L
 amandini
LAST-MODIFIED;VALUE=DATE-TIME:20250512T114157Z
URL:https://sde.unibo.it/it/eventi/the-evolution-of-fintech-and-one-elemen
 t-of-its-future-the-future-of-money-prof-ross-p-buckley
END:VEVENT
BEGIN:VTIMEZONE
TZID:Europe/Rome
X-LIC-LOCATION:Europe/Rome
BEGIN:DAYLIGHT
DTSTART;VALUE=DATE-TIME:20250330T030000
TZNAME:CEST
TZOFFSETFROM:+0100
TZOFFSETTO:+0200
END:DAYLIGHT
END:VTIMEZONE
END:VCALENDAR
