BEGIN:VCALENDAR
VERSION:2.0
PRODID:-//Plone.org//NONSGML plone.app.event//EN
X-WR-TIMEZONE:Europe/Rome
BEGIN:VEVENT
SUMMARY:The Artificial Intelligence Act Proposal and its implications for 
 consumers
DTSTART;TZID=Europe/Rome;VALUE=DATE-TIME:20220404T170000
DTEND;TZID=Europe/Rome;VALUE=DATE-TIME:20220404T190000
DTSTAMP;VALUE=DATE-TIME:20260425T054111Z
UID:4d19b889f07a44fc9b471221bd282fcb@sde.unibo.it
CREATED;VALUE=DATE-TIME:20220329T102815Z
DESCRIPTION:Ciclo di seminari organizzati con la partecipazione del Digi-C
 onsme (https://site.unibo.it/digi-consme/en). Più informazioni nella loca
 ndina allegata.
LAST-MODIFIED;VALUE=DATE-TIME:20220329T102843Z
URL:https://sde.unibo.it/it/eventi/the-artificial-intelligence-act-proposa
 l-and-its-implications-for-consumers
END:VEVENT
BEGIN:VTIMEZONE
TZID:Europe/Rome
X-LIC-LOCATION:Europe/Rome
BEGIN:DAYLIGHT
DTSTART;VALUE=DATE-TIME:20220327T030000
TZNAME:CEST
TZOFFSETFROM:+0100
TZOFFSETTO:+0200
END:DAYLIGHT
END:VTIMEZONE
END:VCALENDAR
