BEGIN:VCALENDAR
VERSION:2.0
PRODID:-//Plone.org//NONSGML plone.app.event//EN
X-WR-TIMEZONE:Europe/Rome
BEGIN:VEVENT
SUMMARY:The Accounting Challenges for Indigenous Businesses
DTSTART;TZID=Europe/Rome;VALUE=DATE-TIME:20231214T093000
DTEND;TZID=Europe/Rome;VALUE=DATE-TIME:20231214T103000
DTSTAMP;VALUE=DATE-TIME:20260421T150157Z
UID:261685c76fe4408f92436241a3eb458d@sde.unibo.it
CREATED;VALUE=DATE-TIME:20231213T101631Z
DESCRIPTION:Seminario Tenuto dal Prof. Umesh Sharma (University of Waikato
 ) - Introduzione: Prof.ssa Federica Farneti (Università di Bologna)
LAST-MODIFIED;VALUE=DATE-TIME:20231213T101631Z
URL:https://sde.unibo.it/it/eventi/the-accounting-challenges-for-indigenou
 s-businesses
END:VEVENT
BEGIN:VTIMEZONE
TZID:Europe/Rome
X-LIC-LOCATION:Europe/Rome
BEGIN:STANDARD
DTSTART;VALUE=DATE-TIME:20231029T020000
TZNAME:CET
TZOFFSETFROM:+0200
TZOFFSETTO:+0100
END:STANDARD
END:VTIMEZONE
END:VCALENDAR
