BEGIN:VCALENDAR
VERSION:2.0
PRODID:-//Plone.org//NONSGML plone.app.event//EN
X-WR-TIMEZONE:Europe/Rome
BEGIN:VEVENT
SUMMARY:Temi vecchi e nuovi del diritto societario
DTSTART;VALUE=DATE:20180510
DTEND;VALUE=DATE:20180511
DTSTAMP;VALUE=DATE-TIME:20260422T203015Z
UID:b906d70200c34cfbb87de7217f47dd92@sde.unibo.it
CREATED;VALUE=DATE-TIME:20180503T070452Z
DESCRIPTION:Una conversazione a più voci in compagnia di Rossella Rivaro 
 e Filadelfio Mancuso in occasione della presentazione delle loro ultime mo
 nografie
LAST-MODIFIED;VALUE=DATE-TIME:20180503T070924Z
URL:https://sde.unibo.it/it/eventi/temi-vecchi-e-nuovi-del-diritto-societa
 rio
END:VEVENT
END:VCALENDAR
