BEGIN:VCALENDAR
VERSION:2.0
PRODID:-//Plone.org//NONSGML plone.app.event//EN
X-WR-TIMEZONE:Europe/Rome
BEGIN:VEVENT
SUMMARY:Temi attuali oggetto di riflessione e studio da parte della Consob
DTSTART;TZID=Europe/Rome;VALUE=DATE-TIME:20191016T120000
DTEND;TZID=Europe/Rome;VALUE=DATE-TIME:20191016T140000
DTSTAMP;VALUE=DATE-TIME:20260426T023141Z
UID:755bc17705cd459b9d7d59dba5c0fb7d@sde.unibo.it
CREATED;VALUE=DATE-TIME:20191015T084113Z
LAST-MODIFIED;VALUE=DATE-TIME:20191015T084139Z
URL:https://sde.unibo.it/it/eventi/temi-attuali-oggetto-di-riflessione-e-s
 tudio-da-parte-della-consob
END:VEVENT
BEGIN:VTIMEZONE
TZID:Europe/Rome
X-LIC-LOCATION:Europe/Rome
BEGIN:DAYLIGHT
DTSTART;VALUE=DATE-TIME:20190331T030000
TZNAME:CEST
TZOFFSETFROM:+0100
TZOFFSETTO:+0200
END:DAYLIGHT
END:VTIMEZONE
END:VCALENDAR
