BEGIN:VCALENDAR
VERSION:2.0
PRODID:-//Plone.org//NONSGML plone.app.event//EN
X-WR-TIMEZONE:Europe/Rome
BEGIN:VEVENT
SUMMARY:Tecnologie e democrazia
DTSTART;TZID=Europe/Rome;VALUE=DATE-TIME:20231005T160000
DTEND;TZID=Europe/Rome;VALUE=DATE-TIME:20231005T190000
DTSTAMP;VALUE=DATE-TIME:20260425T022657Z
UID:0409075dce2743af892e02b7402ecbdd@sde.unibo.it
CREATED;VALUE=DATE-TIME:20231002T133753Z
DESCRIPTION:Un incontro a più voci per approfondire i molteplici aspetti 
 che il binomio tecnologia-democrazia pone oggi all’attenzione della comu
 nità universitaria e della cittadinanza.
LAST-MODIFIED;VALUE=DATE-TIME:20231002T134014Z
URL:https://sde.unibo.it/it/eventi/tecnologie-e-democrazia
END:VEVENT
BEGIN:VTIMEZONE
TZID:Europe/Rome
X-LIC-LOCATION:Europe/Rome
BEGIN:DAYLIGHT
DTSTART;VALUE=DATE-TIME:20230326T030000
TZNAME:CEST
TZOFFSETFROM:+0100
TZOFFSETTO:+0200
END:DAYLIGHT
END:VTIMEZONE
END:VCALENDAR
