BEGIN:VCALENDAR
VERSION:2.0
PRODID:-//Plone.org//NONSGML plone.app.event//EN
X-WR-TIMEZONE:Europe/Rome
BEGIN:VEVENT
SUMMARY:Sustainability Reporting and IR
DTSTART;TZID=Europe/Rome;VALUE=DATE-TIME:20220927T111500
DTEND;TZID=Europe/Rome;VALUE=DATE-TIME:20220927T130000
DTSTAMP;VALUE=DATE-TIME:20260425T003841Z
UID:a27d8da96713434cbbd9b6c7f831694f@sde.unibo.it
CREATED;VALUE=DATE-TIME:20220913T093152Z
DESCRIPTION:Professor Charl De Villiers\, introduce prof.ssa Federica Farn
 eti
LAST-MODIFIED;VALUE=DATE-TIME:20220913T093345Z
URL:https://sde.unibo.it/it/eventi/sustainability-reporting-and-ir
END:VEVENT
BEGIN:VTIMEZONE
TZID:Europe/Rome
X-LIC-LOCATION:Europe/Rome
BEGIN:DAYLIGHT
DTSTART;VALUE=DATE-TIME:20220327T030000
TZNAME:CEST
TZOFFSETFROM:+0100
TZOFFSETTO:+0200
END:DAYLIGHT
END:VTIMEZONE
END:VCALENDAR
