BEGIN:VCALENDAR
VERSION:2.0
PRODID:-//Plone.org//NONSGML plone.app.event//EN
X-WR-TIMEZONE:Europe/Rome
BEGIN:VEVENT
SUMMARY:Sustainability Reporting and Assurance
DTSTART;TZID=Europe/Rome;VALUE=DATE-TIME:20220316T090000
DTEND;TZID=Europe/Rome;VALUE=DATE-TIME:20220316T120000
DTSTAMP;VALUE=DATE-TIME:20260424T170606Z
UID:e0c60ff87b0d4b86a0eafd6f50706abf@sde.unibo.it
CREATED;VALUE=DATE-TIME:20220221T100332Z
DESCRIPTION:Interverranno Alice Molta\, Marella Chiodini e Silvia Dallai. 
 Per iscriversi è possibile mandare una mail a federica.farneti@unibo.it a
 lmeno 7 giorni prima dell'evento.
LAST-MODIFIED;VALUE=DATE-TIME:20220221T100406Z
URL:https://sde.unibo.it/it/eventi/sustainability-reporting-and-assurance
END:VEVENT
BEGIN:VTIMEZONE
TZID:Europe/Rome
X-LIC-LOCATION:Europe/Rome
BEGIN:STANDARD
DTSTART;VALUE=DATE-TIME:20211031T020000
TZNAME:CET
TZOFFSETFROM:+0200
TZOFFSETTO:+0100
END:STANDARD
END:VTIMEZONE
END:VCALENDAR
