BEGIN:VCALENDAR
VERSION:2.0
PRODID:-//Plone.org//NONSGML plone.app.event//EN
X-WR-TIMEZONE:Europe/Rome
BEGIN:VEVENT
SUMMARY:#SupportSyria
DTSTART;TZID=Europe/Rome;VALUE=DATE-TIME:20161010T090000
DTEND;TZID=Europe/Rome;VALUE=DATE-TIME:20161010T110000
DTSTAMP;VALUE=DATE-TIME:20260423T020827Z
UID:7c1838ca0c694f328cb566d8f3a3db7c@sde.unibo.it
CREATED;VALUE=DATE-TIME:20161006T054213Z
LAST-MODIFIED;VALUE=DATE-TIME:20161006T054803Z
URL:https://sde.unibo.it/it/eventi/supportsyria
END:VEVENT
BEGIN:VTIMEZONE
TZID:Europe/Rome
X-LIC-LOCATION:Europe/Rome
BEGIN:DAYLIGHT
DTSTART;VALUE=DATE-TIME:20160327T030000
TZNAME:CEST
TZOFFSETFROM:+0100
TZOFFSETTO:+0200
END:DAYLIGHT
END:VTIMEZONE
END:VCALENDAR
