BEGIN:VCALENDAR
VERSION:2.0
PRODID:-//Plone.org//NONSGML plone.app.event//EN
X-WR-TIMEZONE:Europe/Rome
BEGIN:VEVENT
SUMMARY:Summer School on Management and reporting non-financial informatio
 n by private\, public and not for profit organisations
DTSTART;VALUE=DATE:20180625
DTEND;VALUE=DATE:20180629
DTSTAMP;VALUE=DATE-TIME:20260422T221628Z
UID:c0bc5a4d44ae40ad9e463e10bda22912@sde.unibo.it
CREATED;VALUE=DATE-TIME:20180417T084512Z
DESCRIPTION:Forlì il 25-28 giugno 2018 in Piazzale della Vittoria 15
LAST-MODIFIED;VALUE=DATE-TIME:20180417T084534Z
URL:https://sde.unibo.it/it/eventi/summer-school-on-management-and-reporti
 ng-non-financial-information-by-private-public-and-not-for-profit-organisa
 tions
END:VEVENT
END:VCALENDAR
