BEGIN:VCALENDAR
VERSION:2.0
PRODID:-//Plone.org//NONSGML plone.app.event//EN
X-WR-TIMEZONE:Europe/Rome
BEGIN:VEVENT
SUMMARY:Strategie di inclusione attraverso la partecipazione nel lavoro pe
 r il benessere organizzativo: i risultati dell’indagine quali-quantitati
 va
DTSTART;TZID=Europe/Rome;VALUE=DATE-TIME:20240910T100000
DTEND;TZID=Europe/Rome;VALUE=DATE-TIME:20240910T173000
DTSTAMP;VALUE=DATE-TIME:20260421T130652Z
UID:e8dc4238b46741bdb6b7b13627eecd98@sde.unibo.it
CREATED;VALUE=DATE-TIME:20240828T141808Z
DESCRIPTION:Evento organizzato nell'ambito del progetto PRIN INSPIRE e in 
 collaborazione col Centro di Ricerca Interdisciplinare dei Diritti Sociali
 .
LAST-MODIFIED;VALUE=DATE-TIME:20240828T142129Z
URL:https://sde.unibo.it/it/eventi/strategie-di-inclusione-attraverso-la-p
 artecipazione-nel-lavoro-per-il-benessere-organizzativo-i-risultati-dell-i
 ndagine-quali-quantitativa
END:VEVENT
BEGIN:VTIMEZONE
TZID:Europe/Rome
X-LIC-LOCATION:Europe/Rome
BEGIN:DAYLIGHT
DTSTART;VALUE=DATE-TIME:20240331T030000
TZNAME:CEST
TZOFFSETFROM:+0100
TZOFFSETTO:+0200
END:DAYLIGHT
END:VTIMEZONE
END:VCALENDAR
