BEGIN:VCALENDAR
VERSION:2.0
PRODID:-//Plone.org//NONSGML plone.app.event//EN
X-WR-TIMEZONE:Europe/Rome
BEGIN:VEVENT
SUMMARY:Storage and Scarcity New Practices for Food\, Energy and Water
DTSTART;TZID=Europe/Rome;VALUE=DATE-TIME:20170518T153000
DTEND;TZID=Europe/Rome;VALUE=DATE-TIME:20170518T173000
DTSTAMP;VALUE=DATE-TIME:20260423T000349Z
UID:8651949f2198429280f31a6d665d5b6e@sde.unibo.it
CREATED;VALUE=DATE-TIME:20170421T062439Z
LAST-MODIFIED;VALUE=DATE-TIME:20170505T080820Z
URL:https://sde.unibo.it/it/eventi/storage-and-scarcity-new-practices-for-
 food-energy-and-water
END:VEVENT
BEGIN:VTIMEZONE
TZID:Europe/Rome
X-LIC-LOCATION:Europe/Rome
BEGIN:DAYLIGHT
DTSTART;VALUE=DATE-TIME:20170326T030000
TZNAME:CEST
TZOFFSETFROM:+0100
TZOFFSETTO:+0200
END:DAYLIGHT
END:VTIMEZONE
END:VCALENDAR
