BEGIN:VCALENDAR
VERSION:2.0
PRODID:-//Plone.org//NONSGML plone.app.event//EN
X-WR-TIMEZONE:Europe/Rome
BEGIN:VEVENT
SUMMARY:Spazi di Comunità. Evoluzioni e trasformazioni dagli anni Novanta
  ad oggi
DTSTART;TZID=Europe/Rome;VALUE=DATE-TIME:20240628T150000
DTEND;TZID=Europe/Rome;VALUE=DATE-TIME:20240628T180000
DTSTAMP;VALUE=DATE-TIME:20260422T081915Z
UID:a82a0d23571f4e17a11c91295a5d338a@sde.unibo.it
CREATED;VALUE=DATE-TIME:20240614T093401Z
DESCRIPTION:Il seminario è organizzato nell’ambito del progetto ANR CAR
 E Processi di commoning nell'urbanistica dell'austerità: rigenerazione sp
 aziale e governance. Maggiori dettagli: https://care.hypotheses.org/
LAST-MODIFIED;VALUE=DATE-TIME:20240614T093423Z
URL:https://sde.unibo.it/it/eventi/spazi-di-comunita-evoluzioni-e-trasform
 azioni-dagli-anni-novanta-ad-oggi
END:VEVENT
BEGIN:VTIMEZONE
TZID:Europe/Rome
X-LIC-LOCATION:Europe/Rome
BEGIN:DAYLIGHT
DTSTART;VALUE=DATE-TIME:20240331T030000
TZNAME:CEST
TZOFFSETFROM:+0100
TZOFFSETTO:+0200
END:DAYLIGHT
END:VTIMEZONE
END:VCALENDAR
