BEGIN:VCALENDAR
VERSION:2.0
PRODID:-//Plone.org//NONSGML plone.app.event//EN
X-WR-TIMEZONE:Europe/Rome
BEGIN:VEVENT
SUMMARY:Sopravvivere alla Tratta. Esperienze di inclusione di donne e mino
 ri e metodi di contrasto alle mafie transnazionali
DTSTART;TZID=Europe/Rome;VALUE=DATE-TIME:20181025T100000
DTEND;TZID=Europe/Rome;VALUE=DATE-TIME:20181025T170000
DTSTAMP;VALUE=DATE-TIME:20260423T150913Z
UID:bfa84c8f14ea4a2886be39e15ca80325@sde.unibo.it
CREATED;VALUE=DATE-TIME:20181001T105743Z
LAST-MODIFIED;VALUE=DATE-TIME:20181018T054730Z
URL:https://sde.unibo.it/it/eventi/sopravvivere-alla-tratta.-esperienze-di
 -inclusione-di-donne-e-minori-e-metodi-di-contrasto-alle-mafie-transnazion
 ali
END:VEVENT
BEGIN:VTIMEZONE
TZID:Europe/Rome
X-LIC-LOCATION:Europe/Rome
BEGIN:DAYLIGHT
DTSTART;VALUE=DATE-TIME:20180325T030000
TZNAME:CEST
TZOFFSETFROM:+0100
TZOFFSETTO:+0200
END:DAYLIGHT
END:VTIMEZONE
END:VCALENDAR
