BEGIN:VCALENDAR
VERSION:2.0
PRODID:-//Plone.org//NONSGML plone.app.event//EN
X-WR-TIMEZONE:Europe/Rome
BEGIN:VEVENT
SUMMARY:"Social innovation and its discontents" For What It’s Worth Prof
 . D. Stark
DTSTART;TZID=Europe/Rome;VALUE=DATE-TIME:20170329T143000
DTEND;TZID=Europe/Rome;VALUE=DATE-TIME:20170329T173000
DTSTAMP;VALUE=DATE-TIME:20260422T204316Z
UID:058e1694d4a14dd68ee7053b676a6ebf@sde.unibo.it
CREATED;VALUE=DATE-TIME:20170328T050040Z
DESCRIPTION:For What It’s Worth\n
LAST-MODIFIED;VALUE=DATE-TIME:20170328T050143Z
URL:https://sde.unibo.it/it/eventi/social-innovation-and-its-discontents-p
 rof.-d.-stark-1
END:VEVENT
BEGIN:VTIMEZONE
TZID:Europe/Rome
X-LIC-LOCATION:Europe/Rome
BEGIN:DAYLIGHT
DTSTART;VALUE=DATE-TIME:20170326T030000
TZNAME:CEST
TZOFFSETFROM:+0100
TZOFFSETTO:+0200
END:DAYLIGHT
END:VTIMEZONE
END:VCALENDAR
