BEGIN:VCALENDAR
VERSION:2.0
PRODID:-//Plone.org//NONSGML plone.app.event//EN
X-WR-TIMEZONE:Europe/Rome
BEGIN:VEVENT
SUMMARY:"Social innovation and its discontents" Algorithmic Contingency: I
 nnovations in the Web - Prof. ssa Elena Esposito
DTSTART;TZID=Europe/Rome;VALUE=DATE-TIME:20170405T094500
DTEND;TZID=Europe/Rome;VALUE=DATE-TIME:20170405T123000
DTSTAMP;VALUE=DATE-TIME:20260422T204316Z
UID:a6747b21daa24b3183171391355b2458@sde.unibo.it
CREATED;VALUE=DATE-TIME:20170328T110954Z
DESCRIPTION:Prof. ssa Elena Esposito\n
LAST-MODIFIED;VALUE=DATE-TIME:20170328T111351Z
URL:https://sde.unibo.it/it/eventi/social-innovation-and-its-discontents-a
 lgorithmic-contingency-innovations-in-the-web
END:VEVENT
BEGIN:VTIMEZONE
TZID:Europe/Rome
X-LIC-LOCATION:Europe/Rome
BEGIN:DAYLIGHT
DTSTART;VALUE=DATE-TIME:20170326T030000
TZNAME:CEST
TZOFFSETFROM:+0100
TZOFFSETTO:+0200
END:DAYLIGHT
END:VTIMEZONE
END:VCALENDAR
