BEGIN:VCALENDAR
VERSION:2.0
PRODID:-//Plone.org//NONSGML plone.app.event//EN
X-WR-TIMEZONE:Europe/Rome
BEGIN:VEVENT
SUMMARY:SMEs seminar
DTSTART;TZID=Europe/Rome;VALUE=DATE-TIME:20170228T140000
DTEND;TZID=Europe/Rome;VALUE=DATE-TIME:20170228T180000
DTSTAMP;VALUE=DATE-TIME:20260422T195413Z
UID:fcff8839b04f4c559af314273952d2f1@sde.unibo.it
CREATED;VALUE=DATE-TIME:20170209T082112Z
LAST-MODIFIED;VALUE=DATE-TIME:20170209T082802Z
URL:https://sde.unibo.it/it/eventi/smes-seminar
END:VEVENT
BEGIN:VTIMEZONE
TZID:Europe/Rome
X-LIC-LOCATION:Europe/Rome
BEGIN:STANDARD
DTSTART;VALUE=DATE-TIME:20161030T020000
TZNAME:CET
TZOFFSETFROM:+0200
TZOFFSETTO:+0100
END:STANDARD
END:VTIMEZONE
END:VCALENDAR
