BEGIN:VCALENDAR
VERSION:2.0
PRODID:-//Plone.org//NONSGML plone.app.event//EN
X-WR-TIMEZONE:Europe/Rome
BEGIN:VEVENT
SUMMARY:Sistemi a confronto. Idee di democrazia\, idee di policy - SDE Lec
 tures
DTSTART;TZID=Europe/Rome;VALUE=DATE-TIME:20231204T100000
DTEND;TZID=Europe/Rome;VALUE=DATE-TIME:20231204T130000
DTSTAMP;VALUE=DATE-TIME:20260421T230020Z
UID:6be8be0998a349ff8aa42c97f45e83a1@sde.unibo.it
CREATED;VALUE=DATE-TIME:20231122T100747Z
LAST-MODIFIED;VALUE=DATE-TIME:20231122T100748Z
URL:https://sde.unibo.it/it/eventi/sistemi-a-confronto-idee-di-democrazia-
 idee-di-policy-sde-lectures-1
END:VEVENT
BEGIN:VTIMEZONE
TZID:Europe/Rome
X-LIC-LOCATION:Europe/Rome
BEGIN:STANDARD
DTSTART;VALUE=DATE-TIME:20231029T020000
TZNAME:CET
TZOFFSETFROM:+0200
TZOFFSETTO:+0100
END:STANDARD
END:VTIMEZONE
END:VCALENDAR
