BEGIN:VCALENDAR
VERSION:2.0
PRODID:-//Plone.org//NONSGML plone.app.event//EN
X-WR-TIMEZONE:Europe/Rome
BEGIN:VEVENT
SUMMARY:SIDREA INTERNATIONAL WORKSHOP (SIW)
DTSTART;TZID=Europe/Rome;VALUE=DATE-TIME:20150702T000000
DTEND;TZID=Europe/Rome;VALUE=DATE-TIME:20150703T235500
DTSTAMP;VALUE=DATE-TIME:20260423T030818Z
UID:47563ff619c442d69184dd423e45c663@sde.unibo.it
CREATED;VALUE=DATE-TIME:20150508T095159Z
DESCRIPTION:Current Issues in Social\, Environmental and Gender Accounting
 \nPapers on other topics of accounting and related interdisciplinary resea
 rch will be welcome.\n
LAST-MODIFIED;VALUE=DATE-TIME:20150625T064005Z
URL:https://sde.unibo.it/it/eventi/sidrea-international-workshop-siw
END:VEVENT
BEGIN:VTIMEZONE
TZID:Europe/Rome
X-LIC-LOCATION:Europe/Rome
BEGIN:DAYLIGHT
DTSTART;VALUE=DATE-TIME:20150329T030000
TZNAME:CEST
TZOFFSETFROM:+0100
TZOFFSETTO:+0200
END:DAYLIGHT
END:VTIMEZONE
END:VCALENDAR
