BEGIN:VCALENDAR
VERSION:2.0
PRODID:-//Plone.org//NONSGML plone.app.event//EN
X-WR-TIMEZONE:Europe/Rome
BEGIN:VEVENT
SUMMARY:Si fa presto a dire “social”: preferenze\, rischi\, sostenibil
 ità e tutele negli investimenti ESG
DTSTART;TZID=Europe/Rome;VALUE=DATE-TIME:20250403T100000
DTEND;TZID=Europe/Rome;VALUE=DATE-TIME:20250403T120000
DTSTAMP;VALUE=DATE-TIME:20260419T144417Z
UID:77144f89984b445f808d78676c380471@sde.unibo.it
CREATED;VALUE=DATE-TIME:20250313T082123Z
DESCRIPTION:Seminario organizzato nell’ambito del Prin LABFIN Labour Pol
 icies through Sustainable Finance.
LAST-MODIFIED;VALUE=DATE-TIME:20250313T082216Z
URL:https://sde.unibo.it/it/eventi/si-fa-presto-a-dire-social-preferenze-r
 ischi-sostenibilita-e-tutele-negli-investimenti-esg
END:VEVENT
BEGIN:VTIMEZONE
TZID:Europe/Rome
X-LIC-LOCATION:Europe/Rome
BEGIN:DAYLIGHT
DTSTART;VALUE=DATE-TIME:20250330T030000
TZNAME:CEST
TZOFFSETFROM:+0100
TZOFFSETTO:+0200
END:DAYLIGHT
END:VTIMEZONE
END:VCALENDAR
