BEGIN:VCALENDAR
VERSION:2.0
PRODID:-//Plone.org//NONSGML plone.app.event//EN
X-WR-TIMEZONE:Europe/Rome
BEGIN:VEVENT
SUMMARY:Servizio sociale e occupazione in tempi di crisi. Esigenze formati
 ve della professione e mercato del lavoro.
DTSTART;TZID=Europe/Rome;VALUE=DATE-TIME:20161025T110000
DTEND;TZID=Europe/Rome;VALUE=DATE-TIME:20161025T130000
DTSTAMP;VALUE=DATE-TIME:20260422T140514Z
UID:ee63a23c607e46549b080e964e94618e@sde.unibo.it
CREATED;VALUE=DATE-TIME:20161008T091412Z
DESCRIPTION:INAUGURAZIONE ANNO ACCADEMICO 2016-2017
LAST-MODIFIED;VALUE=DATE-TIME:20161008T091419Z
URL:https://sde.unibo.it/it/eventi/servizio-sociale-e-occupazione-in-tempi
 -di-crisi.-esigenze-formative-della-professione-e-mercato-del-lavoro
END:VEVENT
BEGIN:VTIMEZONE
TZID:Europe/Rome
X-LIC-LOCATION:Europe/Rome
BEGIN:DAYLIGHT
DTSTART;VALUE=DATE-TIME:20160327T030000
TZNAME:CEST
TZOFFSETFROM:+0100
TZOFFSETTO:+0200
END:DAYLIGHT
END:VTIMEZONE
END:VCALENDAR
