BEGIN:VCALENDAR
VERSION:2.0
PRODID:-//Plone.org//NONSGML plone.app.event//EN
X-WR-TIMEZONE:Europe/Rome
BEGIN:VEVENT
SUMMARY:Sequenze di gola
DTSTART;VALUE=DATE:20190307
DTEND;VALUE=DATE:20190329
DTSTAMP;VALUE=DATE-TIME:20260424T191409Z
UID:bb92eb31c72d42ae97e0c99b0626abf4@sde.unibo.it
CREATED;VALUE=DATE-TIME:20190305T105928Z
DESCRIPTION:Rassegna organizzata da Piergiorgio Degli Esposti
LAST-MODIFIED;VALUE=DATE-TIME:20190305T110001Z
URL:https://sde.unibo.it/it/eventi/sequenze-di-gola-3
END:VEVENT
END:VCALENDAR
