BEGIN:VCALENDAR
VERSION:2.0
PRODID:-//Plone.org//NONSGML plone.app.event//EN
X-WR-TIMEZONE:Europe/Rome
BEGIN:VEVENT
SUMMARY:Sequenze di Gola
DTSTART;TZID=Europe/Rome;VALUE=DATE-TIME:20170309T110500
DTEND;TZID=Europe/Rome;VALUE=DATE-TIME:20170330T110500
DTSTAMP;VALUE=DATE-TIME:20260422T201801Z
UID:68bd1e71c51a49df913478e9fb36b944@sde.unibo.it
CREATED;VALUE=DATE-TIME:20170307T090608Z
LAST-MODIFIED;VALUE=DATE-TIME:20170307T110037Z
URL:https://sde.unibo.it/it/eventi/sequenze-di-gola-2
END:VEVENT
BEGIN:VTIMEZONE
TZID:Europe/Rome
X-LIC-LOCATION:Europe/Rome
BEGIN:STANDARD
DTSTART;VALUE=DATE-TIME:20161030T020000
TZNAME:CET
TZOFFSETFROM:+0200
TZOFFSETTO:+0100
END:STANDARD
BEGIN:DAYLIGHT
DTSTART;VALUE=DATE-TIME:20170326T030000
TZNAME:CEST
TZOFFSETFROM:+0100
TZOFFSETTO:+0200
END:DAYLIGHT
END:VTIMEZONE
END:VCALENDAR
