BEGIN:VCALENDAR
VERSION:2.0
PRODID:-//Plone.org//NONSGML plone.app.event//EN
X-WR-TIMEZONE:Europe/Rome
BEGIN:VEVENT
SUMMARY:Sequenze di Gola
DTSTART;TZID=Europe/Rome;VALUE=DATE-TIME:20160308T102000
DTEND;TZID=Europe/Rome;VALUE=DATE-TIME:20160330T102000
DTSTAMP;VALUE=DATE-TIME:20260422T234322Z
UID:a241655fe52f417ab2f91d4112b01a0d@sde.unibo.it
CREATED;VALUE=DATE-TIME:20160307T082222Z
LAST-MODIFIED;VALUE=DATE-TIME:20160307T082239Z
URL:https://sde.unibo.it/it/eventi/sequenze-di-gola-1
END:VEVENT
BEGIN:VTIMEZONE
TZID:Europe/Rome
X-LIC-LOCATION:Europe/Rome
BEGIN:STANDARD
DTSTART;VALUE=DATE-TIME:20151025T020000
TZNAME:CET
TZOFFSETFROM:+0200
TZOFFSETTO:+0100
END:STANDARD
BEGIN:DAYLIGHT
DTSTART;VALUE=DATE-TIME:20160327T030000
TZNAME:CEST
TZOFFSETFROM:+0100
TZOFFSETTO:+0200
END:DAYLIGHT
END:VTIMEZONE
END:VCALENDAR
