BEGIN:VCALENDAR
VERSION:2.0
PRODID:-//Plone.org//NONSGML plone.app.event//EN
X-WR-TIMEZONE:Europe/Rome
BEGIN:VEVENT
SUMMARY:Seminario Relazione e connessione nella web society
DTSTART;TZID=Europe/Rome;VALUE=DATE-TIME:20151021T170000
DTEND;TZID=Europe/Rome;VALUE=DATE-TIME:20151021T190000
DTSTAMP;VALUE=DATE-TIME:20260423T050300Z
UID:7d842db255124e53a523466a0e12ac10@sde.unibo.it
CREATED;VALUE=DATE-TIME:20151016T053252Z
LAST-MODIFIED;VALUE=DATE-TIME:20151016T053409Z
URL:https://sde.unibo.it/it/eventi/seminario-relazione-e-connessione-nella
 -web-society-1
END:VEVENT
BEGIN:VTIMEZONE
TZID:Europe/Rome
X-LIC-LOCATION:Europe/Rome
BEGIN:DAYLIGHT
DTSTART;VALUE=DATE-TIME:20150329T030000
TZNAME:CEST
TZOFFSETFROM:+0100
TZOFFSETTO:+0200
END:DAYLIGHT
END:VTIMEZONE
END:VCALENDAR
