BEGIN:VCALENDAR
VERSION:2.0
PRODID:-//Plone.org//NONSGML plone.app.event//EN
X-WR-TIMEZONE:Europe/Rome
BEGIN:VEVENT
SUMMARY:Seminario: prezzi edonici: il valore del centro storico-artistico
DTSTART;TZID=Europe/Rome;VALUE=DATE-TIME:20181210T163000
DTEND;TZID=Europe/Rome;VALUE=DATE-TIME:20181210T180000
DTSTAMP;VALUE=DATE-TIME:20260425T233327Z
UID:06350c840de84239ab42032f3fcc7deb@sde.unibo.it
CREATED;VALUE=DATE-TIME:20181128T142046Z
DESCRIPTION:Una comparazione tra Bologna e le altre città italiane
LAST-MODIFIED;VALUE=DATE-TIME:20181128T143546Z
URL:https://sde.unibo.it/it/eventi/seminario-prezzi-edonici-il-valore-del-
 centro-storico-artistico-1
END:VEVENT
BEGIN:VTIMEZONE
TZID:Europe/Rome
X-LIC-LOCATION:Europe/Rome
BEGIN:STANDARD
DTSTART;VALUE=DATE-TIME:20181028T020000
TZNAME:CET
TZOFFSETFROM:+0200
TZOFFSETTO:+0100
END:STANDARD
END:VTIMEZONE
END:VCALENDAR
