BEGIN:VCALENDAR
VERSION:2.0
PRODID:-//Plone.org//NONSGML plone.app.event//EN
X-WR-TIMEZONE:Europe/Rome
BEGIN:VEVENT
SUMMARY:Seminario: la strategia nazionale per le aree interne
DTSTART;TZID=Europe/Rome;VALUE=DATE-TIME:20181210T110000
DTEND;TZID=Europe/Rome;VALUE=DATE-TIME:20181210T130000
DTSTAMP;VALUE=DATE-TIME:20260425T235446Z
UID:b79d45f77742486bab7bc7a63fdfbac9@sde.unibo.it
CREATED;VALUE=DATE-TIME:20181128T143241Z
DESCRIPTION:nell'ambito delle attività didattiche del corso di Sociologia
  dello sviluppo
LAST-MODIFIED;VALUE=DATE-TIME:20181204T121611Z
URL:https://sde.unibo.it/it/eventi/seminario-la-strategia-nazionale-per-le
 -aree-interne
END:VEVENT
BEGIN:VTIMEZONE
TZID:Europe/Rome
X-LIC-LOCATION:Europe/Rome
BEGIN:STANDARD
DTSTART;VALUE=DATE-TIME:20181028T020000
TZNAME:CET
TZOFFSETFROM:+0200
TZOFFSETTO:+0100
END:STANDARD
END:VTIMEZONE
END:VCALENDAR
