BEGIN:VCALENDAR
VERSION:2.0
PRODID:-//Plone.org//NONSGML plone.app.event//EN
X-WR-TIMEZONE:Europe/Rome
BEGIN:VEVENT
SUMMARY:Seminario internazionale: IC and performance measurement in the un
 iversity Sector
DTSTART;VALUE=DATE:20180629
DTEND;VALUE=DATE:20180630
DTSTAMP;VALUE=DATE-TIME:20260422T221523Z
UID:06876b7d588f4a0abd617856fdf5a8f4@sde.unibo.it
CREATED;VALUE=DATE-TIME:20180417T092241Z
LAST-MODIFIED;VALUE=DATE-TIME:20180502T084003Z
URL:https://sde.unibo.it/it/eventi/seminario-internazionale-ic-and-perform
 ance-measurement-in-the-university-sector
END:VEVENT
END:VCALENDAR
